BEGIN:VCALENDAR
VERSION:2.0
PRODID:-//Building Dreams for Marines - ECPv6.10.3//NONSGML v1.0//EN
CALSCALE:GREGORIAN
METHOD:PUBLISH
X-WR-CALNAME:Building Dreams for Marines
X-ORIGINAL-URL:https://bdfm.org
X-WR-CALDESC:Events for Building Dreams for Marines
REFRESH-INTERVAL;VALUE=DURATION:PT1H
X-Robots-Tag:noindex
X-PUBLISHED-TTL:PT1H
BEGIN:VTIMEZONE
TZID:America/New_York
BEGIN:DAYLIGHT
TZOFFSETFROM:-0500
TZOFFSETTO:-0400
TZNAME:EDT
DTSTART:20240310T070000
END:DAYLIGHT
BEGIN:STANDARD
TZOFFSETFROM:-0400
TZOFFSETTO:-0500
TZNAME:EST
DTSTART:20241103T060000
END:STANDARD
END:VTIMEZONE
BEGIN:VEVENT
DTSTART;TZID=America/New_York:20240814T073000
DTEND;TZID=America/New_York:20240814T140000
DTSTAMP:20260419T131950
CREATED:20230628T162819Z
LAST-MODIFIED:20250512T184004Z
UID:4657-1723620600-1723644000@bdfm.org
SUMMARY:Golf Tournament 2024
DESCRIPTION:Overlook Golf Club\,5 Overlook Dr\,Hollis NH 03049				\n				\n					\n		\n				\n			\n						\n				\n							\n			\n						\n		\n						\n				\n				\n				\n							\n			\n		\n						\n				\n				\n				\n					\Wednesday\, August 12th\, 2026				\n				\n					\n		\n					\n		\n				\n						\n					\n			\n						\n				\n							\n			\n						\n		\n						\n				\n				\n				\n							\n			\n		\n						\n				\n				\n				\n					7:30AMRegistration Opens				\n				\n					\n		\n				\n			\n						\n				\n							\n			\n						\n		\n						\n				\n				\n				\n							\n			\n		\n						\n				\n				\n				\n					8:30AMShotgun Start				\n				\n					\n		\n					\n		\n				\n						\n					\n			\n						\n				\n									\n				\n					\n		\n					\n		\n				\n						\n					\n			\n						\n				\n							\n			\n		\n						\n				\n					\n		\n					\n		\n				\n						\n					\n			\n						\n				\n					Golf Tournament Sponsorship Program				\n				\n				\n				\n							\n			\n		\n						\n				\n					\n		\n					\n		\n				\n						\n					\n			\n						\n				\n					Silver Star - $5\,000				\n				\n				\n				\n							\n			\n		\n						\n				\n				\n				\n									\n					\n						\n						\n							\n									Silver Star Sponsor\n					\n					\n				\n								\n				\n					\n		\n				\n			\n						\n				\n									One foursome in Golf ClassicLarge banner prominently displayedOne exclusive tee sponsor signSpecial recognition at the awards ceremonyRecognition on entrance sign and websiteTable / Booth / Tent opportunity								\n				\n					\n		\n					\n		\n				\n						\n					\n			\n						\n				\n							\n			\n		\n						\n				\n					\n		\n					\n		\n				\n						\n					\n			\n						\n				\n					Bronze Star - $2\,500​				\n				\n				\n				\n							\n			\n		\n						\n				\n				\n				\n									\n					\n						\n						\n							\n									Bronze Star Sponsor\n					\n					\n				\n								\n				\n					\n		\n				\n			\n						\n				\n									One foursome in Golf ClassicMedium banner prominently displayedOne exclusive tee sponsor signSpecial recognition at the awards ceremonyRecognition on entrance sign and website								\n				\n					\n		\n					\n		\n				\n						\n					\n			\n						\n				\n							\n			\n		\n						\n				\n					\n		\n					\n		\n				\n						\n					\n			\n						\n				\n					Purple Heart - $1\,500				\n				\n				\n				\n							\n			\n		\n						\n				\n				\n				\n									\n					\n						\n						\n							\n									Purple Heart Sponsor\n					\n					\n				\n								\n				\n					\n		\n				\n			\n						\n				\n									One Foursome in Golf ClassicTwo strategically placed sponsor signsSpecial Recognition at Awards CeremonyRecognition on entrance sign and entrance								\n				\n					\n		\n					\n		\n				\n						\n					\n			\n						\n				\n							\n			\n		\n						\n				\n					\n		\n					\n		\n				\n						\n					\n			\n						\n				\n					Lunch Sponsor				\n				\n				\n				\n							\n			\n		\n						\n				\n				\n				\n					(SOLD OUT - THANK YOU )				\n				\n					\n		\n				\n			\n						\n				\n									Centerpiece sign on every table								\n				\n					\n		\n					\n		\n				\n						\n					\n			\n						\n				\n							\n			\n		\n						\n				\n					\n		\n					\n		\n				\n						\n					\n			\n						\n				\n					Beverage Cart Sponsor - $750				\n				\n				\n				\n							\n			\n		\n						\n				\n				\n				\n									\n					\n						\n						\n							\n									Cart Sponsor\n					\n					\n				\n								\n				\n					\n		\n				\n			\n						\n				\n									Sign prominently displayed on both beverage carts used during the tournament								\n				\n					\n		\n					\n		\n				\n						\n					\n			\n						\n				\n							\n			\n		\n						\n				\n					\n		\n					\n		\n				\n						\n					\n			\n						\n				\n					Tee Sponsor - $500				\n				\n				\n				\n							\n			\n		\n						\n				\n				\n				\n									\n					\n						\n						\n							\n									Tee Sponsor\n					\n					\n				\n								\n				\n					\n		\n				\n			\n						\n				\n									Sign at a tee								\n				\n					\n		\n					\n		\n				\n						\n					\n			\n						\n				\n							\n			\n		\n						\n				\n					\n		\n					\n		\n				\n						\n					\n			\n						\n				\n					Green Sponsor(1) - $150				\n				\n				\n				\n							\n			\n		\n						\n				\n				\n				\n									\n					\n						\n						\n							\n									Green Sponsor\n					\n					\n				\n								\n				\n					\n		\n				\n			\n						\n				\n									Sign on green								\n				\n					\n		\n					\n		\n				\n						\n					\n			\n						\n				\n							\n			\n		\n						\n				\n					\n		\n					\n		\n				\n						\n					\n			\n						\n				\n					Green Sponsor(4) - $500				\n				\n				\n				\n							\n			\n		\n						\n				\n				\n				\n									\n					\n						\n						\n							\n									Green Sponsor\n					\n					\n				\n								\n				\n					\n		\n				\n			\n						\n				\n									Sign on green								\n				\n					\n		\n					\n		\n				\n						\n					\n			\n						\n				\n							\n			\n						\n		\n						\n				\n				\n				\n							\n			\n		\n						\n				\n				\n				\n					Register Your Foursome				\n				\n				\n				\n							\n			\n		\n						\n				\n				\n				\n									\n					\n						\n						\n							\n									Registration​ Form
URL:https://bdfm.org/event/golf-tournament-2024/
LOCATION:Overlook Country Club\, 5 Overlook Drive\, Hollis\, NH\, 03049\, United States
CATEGORIES:Golf
ATTACH;FMTTYPE=image/jpeg:https://bdfm.org/wp-content/uploads/2023/06/DSC00419-scaled-1.jpg
ORGANIZER;CN="Christine Miller":MAILTO:info@example.com
END:VEVENT
END:VCALENDAR